{
 "currentVersion": 11.3,
 "serviceDescription": "aerial/2018",
 "name": "aerial/2018",
 "description": "",
 "extent": {
  "xmin": 2417699.6341281678,
  "ymin": 346505.99624213454,
  "xmax": 2460219.6341281678,
  "ymax": 394329.49624213454,
  "spatialReference": {
   "wkid": 103191,
   "latestWkid": 6609
  }
 },
 "initialExtent": {
  "xmin": 2417699.6341281678,
  "ymin": 346505.99624213454,
  "xmax": 2460219.6341281678,
  "ymax": 394329.49624213454,
  "spatialReference": {
   "wkid": 103191,
   "latestWkid": 6609
  }
 },
 "fullExtent": {
  "xmin": 2417699.6341281678,
  "ymin": 346505.99624213454,
  "xmax": 2460219.6341281678,
  "ymax": 394329.49624213454,
  "spatialReference": {
   "wkid": 103191,
   "latestWkid": 6609
  }
 },
 "sortableFields": "",
 "bandCount": 3,
 "pixelType": "U8",
 "minValues": [
  0,
  0,
  0
 ],
 "maxValues": [
  255,
  255,
  255
 ],
 "meanValues": [
  140.504434182027,
  121.16542067805858,
  91.66803623243452
 ],
 "stdvValues": [
  39.93030452448108,
  38.85391359188082,
  36.18300724250155
 ],
 "hasMultidimensions": false,
 "timeInfo": {
  "startTimeField": "Date",
  "endTimeField": null,
  "timeExtent": [
   1520640000000,
   1520640000000
  ],
  "timeReference": null
 },
 "pixelSizeX": 0.25,
 "pixelSizeY": 0.25,
 "meanPixelSize": 0.07620015240030481,
 "datasetFormat": "AMD",
 "uncompressedSize": 97605850560,
 "blockWidth": 2048,
 "blockHeight": 256,
 "compressionType": "None",
 "bandNames": [
  "Band_1",
  "Band_2",
  "Band_3"
 ],
 "allowCopy": true,
 "allowAnalysis": true,
 "itemAccess": false,
 "inspectionCapabilities": "",
 "minPixelSize": 0.026041666666666668,
 "maxPixelSize": 6944.444444444444,
 "copyrightText": "City of Waukesha",
 "serviceDataType": "esriImageServiceDataTypeRGB",
 "serviceSourceType": "esriImageServiceSourceTypeMosaicDataset",
 "objectIdField": "OBJECTID",
 "fields": [
  {
   "name": "OBJECTID",
   "type": "esriFieldTypeOID",
   "alias": "OBJECTID",
   "domain": null
  },
  {
   "name": "Shape",
   "type": "esriFieldTypeGeometry",
   "alias": "Shape",
   "domain": null
  },
  {
   "name": "Name",
   "type": "esriFieldTypeString",
   "alias": "Name",
   "domain": null,
   "length": 200
  },
  {
   "name": "MinPS",
   "type": "esriFieldTypeDouble",
   "alias": "MinPS",
   "domain": null
  },
  {
   "name": "MaxPS",
   "type": "esriFieldTypeDouble",
   "alias": "MaxPS",
   "domain": null
  },
  {
   "name": "LowPS",
   "type": "esriFieldTypeDouble",
   "alias": "LowPS",
   "domain": null
  },
  {
   "name": "HighPS",
   "type": "esriFieldTypeDouble",
   "alias": "HighPS",
   "domain": null
  },
  {
   "name": "Category",
   "type": "esriFieldTypeInteger",
   "alias": "Category",
   "domain": {
    "type": "codedValue",
    "name": "MosaicCatalogItemCategoryDomain",
    "description": "Catalog item categories.",
    "codedValues": [
     {
      "name": "Unknown",
      "code": 0
     },
     {
      "name": "Primary",
      "code": 1
     },
     {
      "name": "Overview",
      "code": 2
     },
     {
      "name": "Unprocessed Overview",
      "code": 3
     },
     {
      "name": "Partial Overview",
      "code": 4
     },
     {
      "name": "Inactive",
      "code": 5
     },
     {
      "name": "Uploaded",
      "code": 253
     },
     {
      "name": "Incomplete",
      "code": 254
     },
     {
      "name": "Custom",
      "code": 255
     }
    ],
    "mergePolicy": "esriMPTDefaultValue",
    "splitPolicy": "esriSPTDefaultValue"
   }
  },
  {
   "name": "Tag",
   "type": "esriFieldTypeString",
   "alias": "Tag",
   "domain": null,
   "length": 100
  },
  {
   "name": "GroupName",
   "type": "esriFieldTypeString",
   "alias": "GroupName",
   "domain": null,
   "length": 100
  },
  {
   "name": "ProductName",
   "type": "esriFieldTypeString",
   "alias": "ProductName",
   "domain": null,
   "length": 100
  },
  {
   "name": "CenterX",
   "type": "esriFieldTypeDouble",
   "alias": "CenterX",
   "domain": null
  },
  {
   "name": "CenterY",
   "type": "esriFieldTypeDouble",
   "alias": "CenterY",
   "domain": null
  },
  {
   "name": "ZOrder",
   "type": "esriFieldTypeInteger",
   "alias": "ZOrder",
   "domain": null
  },
  {
   "name": "Shape_Length",
   "type": "esriFieldTypeDouble",
   "alias": "Shape_Length",
   "domain": null
  },
  {
   "name": "Shape_Area",
   "type": "esriFieldTypeDouble",
   "alias": "Shape_Area",
   "domain": null
  }
 ],
 "capabilities": "Catalog,Download,Image,Metadata",
 "defaultMosaicMethod": "Northwest",
 "allowedMosaicMethods": "NorthWest,Center,LockRaster,ByAttribute,Nadir,Viewpoint,Seamline,None",
 "sortField": "",
 "sortValue": null,
 "sortAscending": true,
 "mosaicOperator": "First",
 "maxDownloadSizeLimit": 2048,
 "defaultCompressionQuality": 75,
 "defaultResamplingMethod": "Bilinear",
 "maxImageHeight": 4100,
 "maxImageWidth": 15000,
 "maxRecordCount": 1000,
 "maxDownloadImageCount": 20,
 "maxMosaicImageCount": 20,
 "singleFusedMapCache": true,
 "tileInfo": {
  "rows": 256,
  "cols": 256,
  "dpi": 96,
  "format": "MIXED",
  "compressionQuality": 75,
  "origin": {
   "x": -118121300,
   "y": 142761300
  },
  "spatialReference": {
   "wkid": 103191,
   "latestWkid": 6609
  },
  "lods": [
   {
    "level": 0,
    "resolution": 6944.444444444444,
    "scale": 8000000
   },
   {
    "level": 1,
    "resolution": 3472.222222222222,
    "scale": 4000000
   },
   {
    "level": 2,
    "resolution": 1736.111111111111,
    "scale": 2000000
   },
   {
    "level": 3,
    "resolution": 868.0555555555555,
    "scale": 1000000
   },
   {
    "level": 4,
    "resolution": 434.02777777777777,
    "scale": 500000
   },
   {
    "level": 5,
    "resolution": 217.01388888888889,
    "scale": 250000
   },
   {
    "level": 6,
    "resolution": 108.50694444444444,
    "scale": 125000
   },
   {
    "level": 7,
    "resolution": 55.55555555555555,
    "scale": 64000
   },
   {
    "level": 8,
    "resolution": 27.777777777777775,
    "scale": 32000
   },
   {
    "level": 9,
    "resolution": 13.888888888888888,
    "scale": 16000
   },
   {
    "level": 10,
    "resolution": 6.944444444444444,
    "scale": 8000
   },
   {
    "level": 11,
    "resolution": 3.472222222222222,
    "scale": 4000
   },
   {
    "level": 12,
    "resolution": 1.736111111111111,
    "scale": 2000
   },
   {
    "level": 13,
    "resolution": 0.8680555555555555,
    "scale": 1000
   },
   {
    "level": 14,
    "resolution": 0.43402777777777773,
    "scale": 500
   },
   {
    "level": 15,
    "resolution": 0.21701388888888887,
    "scale": 250
   },
   {
    "level": 16,
    "resolution": 0.10416666666666666,
    "scale": 120
   },
   {
    "level": 17,
    "resolution": 0.05208333333333333,
    "scale": 60
   },
   {
    "level": 18,
    "resolution": 0.026041666666666664,
    "scale": 30
   }
  ]
 },
 "storageInfo": {
  "storageFormat": "esriMapCacheStorageModeCompactV2",
  "packetSize": 128
 },
 "cacheType": "Map",
 "allowRasterFunction": true,
 "rasterFunctionInfos": [
  {
   "name": "None",
   "description": "A No-Op Function.",
   "help": ""
  }
 ],
 "rasterTypeInfos": [
  {
   "name": "Raster Dataset",
   "description": "Supports all ArcGIS Raster Datasets",
   "help": ""
  }
 ],
 "mensurationCapabilities": "None",
 "hasHistograms": true,
 "hasColormap": false,
 "hasRasterAttributeTable": false,
 "minScale": 8000000,
 "maxScale": 30,
 "exportTilesAllowed": false,
 "supportsStatistics": true,
 "supportsAdvancedQueries": true,
 "editFieldsInfo": null,
 "ownershipBasedAccessControlForRasters": null,
 "allowComputeTiePoints": false,
 "useStandardizedQueries": true,
 "advancedQueryCapabilities": {
  "useStandardizedQueries": true,
  "supportsStatistics": true,
  "supportsOrderBy": true,
  "supportsDistinct": true,
  "supportsPagination": true
 },
 "spatialReference": {
  "wkid": 103191,
  "latestWkid": 6609
 },
 "resampling": false
}
