{
 "currentVersion": 11.3,
 "cimVersion": "3.3.0",
 "serviceDescription": "",
 "mapName": "Layers",
 "description": "",
 "copyrightText": "",
 "supportsDynamicLayers": true,
 "layers": [
  {
   "id": 0,
   "name": "2020",
   "parentLayerId": -1,
   "defaultVisibility": true,
   "subLayerIds": [
    1,
    2,
    3
   ],
   "minScale": 0,
   "maxScale": 0,
   "type": "Mosaic Layer",
   "supportsDynamicLegends": false
  },
  {
   "id": 1,
   "name": "Boundary",
   "parentLayerId": 0,
   "defaultVisibility": false,
   "subLayerIds": null,
   "minScale": 0,
   "maxScale": 0,
   "type": "Feature Layer",
   "geometryType": "esriGeometryPolygon",
   "supportsDynamicLegends": true
  },
  {
   "id": 2,
   "name": "Footprint",
   "parentLayerId": 0,
   "defaultVisibility": false,
   "subLayerIds": null,
   "minScale": 0,
   "maxScale": 0,
   "type": "Feature Layer",
   "geometryType": "esriGeometryPolygon",
   "supportsDynamicLegends": true
  },
  {
   "id": 3,
   "name": "Image",
   "parentLayerId": 0,
   "defaultVisibility": true,
   "subLayerIds": null,
   "minScale": 0,
   "maxScale": 0,
   "type": "Raster Layer",
   "supportsDynamicLegends": true
  }
 ],
 "tables": [],
 "spatialReference": {
  "wkid": 103191,
  "latestWkid": 6609,
  "xyTolerance": 0.003280833333333333,
  "zTolerance": 0.001,
  "mTolerance": 0.001,
  "falseX": -118121300,
  "falseY": -97418300,
  "xyUnits": 3.750193294826451E7,
  "falseZ": -100000,
  "zUnits": 10000,
  "falseM": -100000,
  "mUnits": 10000
 },
 "singleFusedMapCache": true,
 "tileInfo": {
  "rows": 256,
  "cols": 256,
  "dpi": 96,
  "format": "MIXED",
  "compressionQuality": 75,
  "origin": {
   "x": -118121300,
   "y": 142761300
  },
  "spatialReference": {
   "wkid": 103191,
   "latestWkid": 6609,
   "xyTolerance": 0.003280833333333333,
   "zTolerance": 0.001,
   "mTolerance": 0.001,
   "falseX": -118121300,
   "falseY": -97418300,
   "xyUnits": 3.750193294826451E7,
   "falseZ": -100000,
   "zUnits": 10000,
   "falseM": -100000,
   "mUnits": 10000
  },
  "lods": [
   {
    "level": 0,
    "resolution": 6944.444444444444,
    "scale": 8000000
   },
   {
    "level": 1,
    "resolution": 3472.222222222222,
    "scale": 4000000
   },
   {
    "level": 2,
    "resolution": 1736.111111111111,
    "scale": 2000000
   },
   {
    "level": 3,
    "resolution": 868.0555555555555,
    "scale": 1000000
   },
   {
    "level": 4,
    "resolution": 434.02777777777777,
    "scale": 500000
   },
   {
    "level": 5,
    "resolution": 217.01388888888889,
    "scale": 250000
   },
   {
    "level": 6,
    "resolution": 108.50694444444444,
    "scale": 125000
   },
   {
    "level": 7,
    "resolution": 55.55555555555555,
    "scale": 64000
   },
   {
    "level": 8,
    "resolution": 27.777777777777775,
    "scale": 32000
   },
   {
    "level": 9,
    "resolution": 13.888888888888888,
    "scale": 16000
   },
   {
    "level": 10,
    "resolution": 6.944444444444444,
    "scale": 8000
   },
   {
    "level": 11,
    "resolution": 3.472222222222222,
    "scale": 4000
   },
   {
    "level": 12,
    "resolution": 1.736111111111111,
    "scale": 2000
   },
   {
    "level": 13,
    "resolution": 0.8680555555555555,
    "scale": 1000
   },
   {
    "level": 14,
    "resolution": 0.43402777777777773,
    "scale": 500
   },
   {
    "level": 15,
    "resolution": 0.21701388888888887,
    "scale": 250
   },
   {
    "level": 16,
    "resolution": 0.10416666666666666,
    "scale": 120
   },
   {
    "level": 17,
    "resolution": 0.05208333333333333,
    "scale": 60
   },
   {
    "level": 18,
    "resolution": 0.026041666666666664,
    "scale": 30
   },
   {
    "level": 19,
    "resolution": 0.010416666666666666,
    "scale": 12
   }
  ]
 },
 "storageInfo": {
  "storageFormat": "esriMapCacheStorageModeCompactV2",
  "packetSize": 128
 },
 "initialExtent": {
  "xmin": 2400520.30042358,
  "ymin": 357708.2870251997,
  "xmax": 2474479.6996323587,
  "ymax": 397749.9999726273,
  "spatialReference": {
   "wkid": 103191,
   "latestWkid": 6609,
   "xyTolerance": 0.003280833333333333,
   "zTolerance": 0.001,
   "mTolerance": 0.001,
   "falseX": -118121300,
   "falseY": -97418300,
   "xyUnits": 3.750193294826451E7,
   "falseZ": -100000,
   "zUnits": 10000,
   "falseM": -100000,
   "mUnits": 10000
  }
 },
 "fullExtent": {
  "xmin": 2409999.999909967,
  "ymin": 340000.0000693053,
  "xmax": 2465000.000145972,
  "ymax": 394999.999977231,
  "spatialReference": {
   "wkid": 103191,
   "latestWkid": 6609,
   "xyTolerance": 0.003280833333333333,
   "zTolerance": 0.001,
   "mTolerance": 0.001,
   "falseX": -118121300,
   "falseY": -97418300,
   "xyUnits": 3.750193294826451E7,
   "falseZ": -100000,
   "zUnits": 10000,
   "falseM": -100000,
   "mUnits": 10000
  }
 },
 "datesInUnknownTimezone": false,
 "minScale": 8000000,
 "maxScale": 12,
 "units": "esriFeet",
 "supportedImageFormatTypes": "PNG32,PNG24,PNG,JPG,DIB,TIFF,EMF,PS,PDF,GIF,SVG,SVGZ,BMP",
 "documentInfo": {
  "Title": "",
  "Author": "",
  "Comments": "",
  "Subject": "",
  "Category": "",
  "Version": "10.1",
  "AntialiasingMode": "None",
  "TextAntialiasingMode": "Force",
  "Keywords": ""
 },
 "supportsQueryDomains": true,
 "capabilities": "Map,Query,Data",
 "supportedQueryFormats": "JSON, geoJSON, PBF",
 "exportTilesAllowed": false,
 "referenceScale": 0.0,
 "supportsDatumTransformation": true,
 "archivingInfo": {
  "supportsHistoricMoment": false
 },
 "supportsClipping": true,
 "supportsSpatialFilter": true,
 "supportsTimeRelation": true,
 "supportsQueryDataElements": true,
 "mapUnits": {
  "uwkid": 9003
 },
 "maxRecordCount": 1000,
 "maxImageHeight": 4096,
 "maxImageWidth": 4096,
 "supportedExtensions": "KmlServer",
 "resampling": false,
 "serviceItemId": "11a9fd9fcf2a44bda100481b3a15c786"
}
