{
 "currentVersion": 11.3,
 "cimVersion": "3.3.0",
 "serviceDescription": "",
 "mapName": "Layers",
 "description": "",
 "copyrightText": "",
 "supportsDynamicLayers": true,
 "layers": [
  {
   "id": 0,
   "name": "BuildingsNoOutline",
   "parentLayerId": -1,
   "defaultVisibility": true,
   "subLayerIds": [
    1,
    2
   ],
   "minScale": 0,
   "maxScale": 8000,
   "type": "Group Layer",
   "supportsDynamicLegends": false
  },
  {
   "id": 3,
   "name": "BuildingsOutlines",
   "parentLayerId": -1,
   "defaultVisibility": true,
   "subLayerIds": [
    4,
    5
   ],
   "minScale": 7999,
   "maxScale": 0,
   "type": "Group Layer",
   "supportsDynamicLegends": false
  },
  {
   "id": 13,
   "name": "DEM2012",
   "parentLayerId": -1,
   "defaultVisibility": true,
   "subLayerIds": [
    14,
    15,
    16
   ],
   "minScale": 0,
   "maxScale": 0,
   "type": "Mosaic Layer",
   "supportsDynamicLegends": false
  },
  {
   "id": 14,
   "name": "Boundary",
   "parentLayerId": 13,
   "defaultVisibility": false,
   "subLayerIds": null,
   "minScale": 0,
   "maxScale": 0,
   "type": "Feature Layer",
   "geometryType": "esriGeometryPolygon",
   "supportsDynamicLegends": true
  },
  {
   "id": 15,
   "name": "Footprint",
   "parentLayerId": 13,
   "defaultVisibility": false,
   "subLayerIds": null,
   "minScale": 0,
   "maxScale": 0,
   "type": "Feature Layer",
   "geometryType": "esriGeometryPolygon",
   "supportsDynamicLegends": true
  },
  {
   "id": 16,
   "name": "Image",
   "parentLayerId": 13,
   "defaultVisibility": true,
   "subLayerIds": null,
   "minScale": 0,
   "maxScale": 0,
   "type": "Raster Layer",
   "supportsDynamicLegends": true
  },
  {
   "id": 17,
   "name": "Hillshade2012",
   "parentLayerId": -1,
   "defaultVisibility": true,
   "subLayerIds": [
    18,
    19,
    20
   ],
   "minScale": 0,
   "maxScale": 0,
   "type": "Mosaic Layer",
   "supportsDynamicLegends": false
  },
  {
   "id": 18,
   "name": "Boundary",
   "parentLayerId": 17,
   "defaultVisibility": false,
   "subLayerIds": null,
   "minScale": 0,
   "maxScale": 0,
   "type": "Feature Layer",
   "geometryType": "esriGeometryPolygon",
   "supportsDynamicLegends": true
  },
  {
   "id": 19,
   "name": "Footprint",
   "parentLayerId": 17,
   "defaultVisibility": false,
   "subLayerIds": null,
   "minScale": 0,
   "maxScale": 0,
   "type": "Feature Layer",
   "geometryType": "esriGeometryPolygon",
   "supportsDynamicLegends": true
  },
  {
   "id": 20,
   "name": "Image",
   "parentLayerId": 17,
   "defaultVisibility": true,
   "subLayerIds": null,
   "minScale": 0,
   "maxScale": 0,
   "type": "Raster Layer",
   "supportsDynamicLegends": true
  }
 ],
 "tables": [],
 "spatialReference": {
  "wkid": 103191,
  "latestWkid": 6609,
  "xyTolerance": 0.003280833333333333,
  "zTolerance": 0.001,
  "mTolerance": 0.001,
  "falseX": -118121300,
  "falseY": -97418300,
  "xyUnits": 3.750193294826451E7,
  "falseZ": -100000,
  "zUnits": 10000,
  "falseM": -100000,
  "mUnits": 10000
 },
 "singleFusedMapCache": true,
 "tileInfo": {
  "rows": 256,
  "cols": 256,
  "dpi": 96,
  "format": "PNG",
  "compressionQuality": 0,
  "origin": {
   "x": -118121300,
   "y": 142761300
  },
  "spatialReference": {
   "wkid": 103191,
   "latestWkid": 6609,
   "xyTolerance": 0.003280833333333333,
   "zTolerance": 0.001,
   "mTolerance": 0.001,
   "falseX": -118121300,
   "falseY": -97418300,
   "xyUnits": 3.750193294826451E7,
   "falseZ": -100000,
   "zUnits": 10000,
   "falseM": -100000,
   "mUnits": 10000
  },
  "lods": [
   {
    "level": 0,
    "resolution": 6944.444444444444,
    "scale": 8000000
   },
   {
    "level": 1,
    "resolution": 3472.222222222222,
    "scale": 4000000
   },
   {
    "level": 2,
    "resolution": 1736.111111111111,
    "scale": 2000000
   },
   {
    "level": 3,
    "resolution": 868.0555555555555,
    "scale": 1000000
   },
   {
    "level": 4,
    "resolution": 434.02777777777777,
    "scale": 500000
   },
   {
    "level": 5,
    "resolution": 217.01388888888889,
    "scale": 250000
   },
   {
    "level": 6,
    "resolution": 108.50694444444444,
    "scale": 125000
   },
   {
    "level": 7,
    "resolution": 55.55555555555555,
    "scale": 64000
   },
   {
    "level": 8,
    "resolution": 27.777777777777775,
    "scale": 32000
   },
   {
    "level": 9,
    "resolution": 13.888888888888888,
    "scale": 16000
   },
   {
    "level": 10,
    "resolution": 6.944444444444444,
    "scale": 8000
   },
   {
    "level": 11,
    "resolution": 3.472222222222222,
    "scale": 4000
   },
   {
    "level": 12,
    "resolution": 1.736111111111111,
    "scale": 2000
   },
   {
    "level": 13,
    "resolution": 0.8680555555555555,
    "scale": 1000
   },
   {
    "level": 14,
    "resolution": 0.43402777777777773,
    "scale": 500
   },
   {
    "level": 15,
    "resolution": 0.21701388888888887,
    "scale": 250
   },
   {
    "level": 16,
    "resolution": 0.10416666666666666,
    "scale": 120
   },
   {
    "level": 17,
    "resolution": 0.05208333333333333,
    "scale": 60
   },
   {
    "level": 18,
    "resolution": 0.026041666666666664,
    "scale": 30
   },
   {
    "level": 19,
    "resolution": 0.010416666666666666,
    "scale": 12
   }
  ]
 },
 "storageInfo": {
  "storageFormat": "esriMapCacheStorageModeCompactV2",
  "packetSize": 128
 },
 "initialExtent": {
  "xmin": 2409269.3299938412,
  "ymin": 348348.8526909365,
  "xmax": 2471891.07185991,
  "ymax": 394713.4636012023,
  "spatialReference": {
   "wkid": 103191,
   "latestWkid": 6609,
   "xyTolerance": 0.003280833333333333,
   "zTolerance": 0.001,
   "mTolerance": 0.001,
   "falseX": -118121300,
   "falseY": -97418300,
   "xyUnits": 3.750193294826451E7,
   "falseZ": -100000,
   "zUnits": 10000,
   "falseM": -100000,
   "mUnits": 10000
  }
 },
 "fullExtent": {
  "xmin": 2358404.9052657187,
  "ymin": 310614.5834465623,
  "xmax": 2486144.905362636,
  "ymax": 440539.58343856037,
  "spatialReference": {
   "wkid": 103191,
   "latestWkid": 6609,
   "xyTolerance": 0.003280833333333333,
   "zTolerance": 0.001,
   "mTolerance": 0.001,
   "falseX": -118121300,
   "falseY": -97418300,
   "xyUnits": 3.750193294826451E7,
   "falseZ": -100000,
   "zUnits": 10000,
   "falseM": -100000,
   "mUnits": 10000
  }
 },
 "datesInUnknownTimezone": false,
 "minScale": 8000000,
 "maxScale": 12,
 "units": "esriFeet",
 "supportedImageFormatTypes": "PNG32,PNG24,PNG,JPG,DIB,TIFF,EMF,PS,PDF,GIF,SVG,SVGZ,BMP",
 "documentInfo": {
  "Title": "TopoBasemap.aprx",
  "Author": "",
  "Comments": "",
  "Subject": "",
  "Category": "",
  "Version": "2.7.0",
  "AntialiasingMode": "None",
  "TextAntialiasingMode": "Force",
  "Keywords": "TopoBasemap_Cache,MapServer"
 },
 "supportsQueryDomains": true,
 "capabilities": "Map,Query,Data",
 "supportedQueryFormats": "JSON, geoJSON, PBF",
 "exportTilesAllowed": false,
 "referenceScale": 0.0,
 "supportsDatumTransformation": true,
 "archivingInfo": {
  "supportsHistoricMoment": false
 },
 "supportsClipping": true,
 "supportsSpatialFilter": true,
 "supportsTimeRelation": true,
 "supportsQueryDataElements": true,
 "mapUnits": {
  "uwkid": 9003
 },
 "maxRecordCount": 1000,
 "maxImageHeight": 4096,
 "maxImageWidth": 4096,
 "supportedExtensions": "KmlServer",
 "serviceItemId": "d8635351fe15429f837821fa54c7b98a"
}
